BEGIN:VCALENDAR
VERSION:2.0
PRODID:-//S I R K O - ECPv6.15.18//NONSGML v1.0//EN
CALSCALE:GREGORIAN
METHOD:PUBLISH
X-ORIGINAL-URL:https://ruangkelas.fkg.ugm.ac.id
X-WR-CALDESC:Events for S I R K O
REFRESH-INTERVAL;VALUE=DURATION:PT1H
X-Robots-Tag:noindex
X-PUBLISHED-TTL:PT1H
BEGIN:VTIMEZONE
TZID:Asia/Jakarta
BEGIN:STANDARD
TZOFFSETFROM:+0700
TZOFFSETTO:+0700
TZNAME:WIB
DTSTART:20240101T000000
END:STANDARD
END:VTIMEZONE
BEGIN:VEVENT
DTSTART;VALUE=DATE:20251222
DTEND;VALUE=DATE:20251223
DTSTAMP:20260421T134106
CREATED:20251202T075150Z
LAST-MODIFIED:20251219T074655Z
UID:40949-1766361600-1766447999@ruangkelas.fkg.ugm.ac.id
SUMMARY:moneev semester gasal
DESCRIPTION:DETAIL PEMINJAMAN RUANG \n\n\n\nNAMA KEGIATAN\n:moneev semester gasal\n\n\nRUANG\n:IUP baru\n\n\nTANGGAL\n:22 Desember 2025\n\n\nJAM KEGIATAN\n:full day\n\n\nPENANGGUNG JAWAB DAN NO WATSAPP\n:Juni P\n\n\nKETERANGAN\n:
URL:https://ruangkelas.fkg.ugm.ac.id/events/moneev-semester-gasal/
CATEGORIES:Ruang Student Lounge/Kelas Internasional Atrium
END:VEVENT
BEGIN:VEVENT
DTSTART;TZID=Asia/Jakarta:20251222T080000
DTEND;TZID=Asia/Jakarta:20251222T100000
DTSTAMP:20260421T134106
CREATED:20251218T025149Z
LAST-MODIFIED:20251218T025149Z
UID:41033-1766390400-1766397600@ruangkelas.fkg.ugm.ac.id
SUMMARY:EVALUASI MHSISWA
DESCRIPTION:NAMA KEGIATAN\n:EVALUASI MHSISWA\n\n\nRUANG\n:MEETING ROOM\n\n\nTANGGAL\n:22 DES 25\n\n\nJAM KEGIATAN\n:08 – 10\n\n\nPENANGGUNG JAWAB DAN NO WATSAPP\n:JP\n\n\nKETERANGAN\n:
URL:https://ruangkelas.fkg.ugm.ac.id/events/evaluasi-mhsiswa/
CATEGORIES:Meeting Room
END:VEVENT
BEGIN:VEVENT
DTSTART;TZID=Asia/Jakarta:20251222T080000
DTEND;TZID=Asia/Jakarta:20251226T160000
DTSTAMP:20260421T134106
CREATED:20251002T072741Z
LAST-MODIFIED:20251002T072741Z
UID:40390-1766390400-1766764800@ruangkelas.fkg.ugm.ac.id
SUMMARY:Kuliah S3
DESCRIPTION:– Nama Kegiatan : Kuliah S3\n– Ruang : Ruang 113 Lab. DLC Lantai 1\n– Tanggal : Senin-Jumat\, 6 Oktober – 31 Desember\n– Jam Kegiatan : 08.00-16.00 WIB\n– Penanggung Jawab : Suci Agustina\n– No. Whatapps : 08175479617
URL:https://ruangkelas.fkg.ugm.ac.id/events/kuliah-s3-17/
CATEGORIES:DLC Lab Teaching Room LT 1
END:VEVENT
BEGIN:VEVENT
DTSTART;TZID=Asia/Jakarta:20251222T080000
DTEND;TZID=Asia/Jakarta:20251226T170000
DTSTAMP:20260421T134106
CREATED:20250811T233224Z
LAST-MODIFIED:20250811T233224Z
UID:39826-1766390400-1766768400@ruangkelas.fkg.ugm.ac.id
SUMMARY:Kuliah semester gasal 2025-2026 PSHG
DESCRIPTION:DETAIL PEMINJAMAN RUANG \n\n\n\nNAMA KEGIATAN\n:Kuliah semester gasal 2025-2026 PSHG\n\n\nRUANG\n:ABC DAN DEF\n\n\nTANGGAL\n:19 AGUSTUS 2025 – JANUARI 2026\n\n\nJAM KEGIATAN\n:07.00-16.00\n\n\nPENANGGUNG JAWAB DAN NO WATSAPP\n:\n\n\nKETERANGAN\n:Kuliah semester gasal 2025-2026 PSHG
URL:https://ruangkelas.fkg.ugm.ac.id/events/kuliah-semester-gasal-2025-2026-pshg-18/
CATEGORIES:DLC Ruang Kelas 1 Lt 2,DLC Ruang Kelas 2 Lt 2
END:VEVENT
BEGIN:VEVENT
DTSTART;TZID=Asia/Jakarta:20251222T120000
DTEND;TZID=Asia/Jakarta:20251222T160000
DTSTAMP:20260421T134106
CREATED:20251211T005615Z
LAST-MODIFIED:20251211T005615Z
UID:41009-1766404800-1766419200@ruangkelas.fkg.ugm.ac.id
SUMMARY:Simulasi akreditasi
DESCRIPTION:Nama Kegiatan : simulasi akreditasi \nNama Ruang : Auditorium margono \nHari\,Tanggal Kegiatan : Senin\, 22 Desember 25 \nJam Kegiatan : 12.00-16.00 \nNama Penanggung Jawab : \n  \nNo Whatsapp :
URL:https://ruangkelas.fkg.ugm.ac.id/events/simulasi-akreditasi-3/
CATEGORIES:Margono Soeradji
END:VEVENT
BEGIN:VEVENT
DTSTART;TZID=Asia/Jakarta:20251222T130000
DTEND;TZID=Asia/Jakarta:20251222T150000
DTSTAMP:20260421T134106
CREATED:20251210T015343Z
LAST-MODIFIED:20251210T015343Z
UID:41002-1766408400-1766415600@ruangkelas.fkg.ugm.ac.id
SUMMARY:PEMBANGUNAN GEDUNG
DESCRIPTION:NAMA KEGIATAN\n:PEMBANGUNAN GEDUNG\n\n\nRUANG\n:MEETING ROOM\n\n\nTANGGAL\n:22 DES 25\n\n\nJAM KEGIATAN\n:13. – 15\n\n\nPENANGGUNG JAWAB DAN NO WATSAPP\n:IDA\n\n\nKETERANGAN\n:
URL:https://ruangkelas.fkg.ugm.ac.id/events/pembangunan-gedung-2/
CATEGORIES:Meeting Room
END:VEVENT
BEGIN:VEVENT
DTSTART;VALUE=DATE:20251223
DTEND;VALUE=DATE:20251224
DTSTAMP:20260421T134106
CREATED:20251204T013801Z
LAST-MODIFIED:20251219T074915Z
UID:40957-1766448000-1766534399@ruangkelas.fkg.ugm.ac.id
SUMMARY:rapat penelitihan
DESCRIPTION:DETAIL PEMINJAMAN RUANG \n\n\n\nNAMA KEGIATAN\n: rapat unit Penelitihan\n\n\nRUANG\n:IUP lama\n\n\nTANGGAL\n:22 Desember 2025\n\n\nJAM KEGIATAN\n:full day\n\n\nPENANGGUNG JAWAB DAN NO WATSAPP\n:Sasmita\n\n\nKETERANGAN\n:
URL:https://ruangkelas.fkg.ugm.ac.id/events/rapat-profesi-4/
CATEGORIES:Ruang Student Lounge/Kelas Internasional Atrium
END:VEVENT
BEGIN:VEVENT
DTSTART;TZID=Asia/Jakarta:20251223T080000
DTEND;TZID=Asia/Jakarta:20251223T170000
DTSTAMP:20260421T134106
CREATED:20251205T071744Z
LAST-MODIFIED:20251210T012937Z
UID:40973-1766476800-1766509200@ruangkelas.fkg.ugm.ac.id
SUMMARY:UJIAN IPM
DESCRIPTION:NAMA KEGIATAN\n:UJIAN IPM\n\n\nRUANG\n:OSCE\n\n\nTANGGAL\n:23 DES 25\n\n\nJAM KEGIATAN\n:08 – 16.\n\n\nPENANGGUNG JAWAB DAN NO WATSAPP\n:ANJAR\n\n\nKETERANGAN\n:
URL:https://ruangkelas.fkg.ugm.ac.id/events/ujian-ipm-4/
CATEGORIES:DLC OSCE LT 6
END:VEVENT
BEGIN:VEVENT
DTSTART;TZID=Asia/Jakarta:20251223T100000
DTEND;TZID=Asia/Jakarta:20251223T110000
DTSTAMP:20260421T134106
CREATED:20251217T074522Z
LAST-MODIFIED:20251217T074522Z
UID:41028-1766484000-1766487600@ruangkelas.fkg.ugm.ac.id
SUMMARY:GMUM
DESCRIPTION:NAMA KEGIATAN\n:GMUM\n\n\nRUANG\n:MEETING ROOM\n\n\nTANGGAL\n:23 DES 25\n\n\nJAM KEGIATAN\n:10 -11\n\n\nPENANGGUNG JAWAB DAN NO WATSAPP\n:IDA\n\n\nKETERANGAN\n:
URL:https://ruangkelas.fkg.ugm.ac.id/events/gmum/
CATEGORIES:Meeting Room
END:VEVENT
BEGIN:VEVENT
DTSTART;TZID=Asia/Jakarta:20251223T140000
DTEND;TZID=Asia/Jakarta:20251223T160000
DTSTAMP:20260421T134106
CREATED:20251217T062548Z
LAST-MODIFIED:20251217T073605Z
UID:41025-1766498400-1766505600@ruangkelas.fkg.ugm.ac.id
SUMMARY:PJ KOASS
DESCRIPTION:NAMA KEGIATAN\n:PJ KOASS\n\n\nRUANG\n:MEETING ROOM\n\n\nTANGGAL\n:23 DES 25\n\n\nJAM KEGIATAN\n:14 – 16\n\n\nPENANGGUNG JAWAB DAN NO WATSAPP\n:DW\n\n\nKETERANGAN\n:
URL:https://ruangkelas.fkg.ugm.ac.id/events/pj-koass-2/
CATEGORIES:Meeting Room
END:VEVENT
BEGIN:VEVENT
DTSTART;TZID=Asia/Jakarta:20251224T090000
DTEND;TZID=Asia/Jakarta:20251224T123000
DTSTAMP:20260421T134106
CREATED:20251223T024903Z
LAST-MODIFIED:20251223T024903Z
UID:41049-1766566800-1766579400@ruangkelas.fkg.ugm.ac.id
SUMMARY:acara bimbingan koas drg fajar januar\, sp bm
DESCRIPTION:DETAIL PEMINJAMAN RUANG \n\n\n\nNAMA KEGIATAN\n:acara bimbingan koas drg fajar januar\, sp bm\n\n\nRUANG\n:IUP lama\n\n\nTANGGAL\n:24 Desember 2025\n\n\nJAM KEGIATAN\n:09.00 – 12.30\n\n\nPENANGGUNG JAWAB DAN NO WATSAPP\n:Dody H\n\n\nKETERANGAN\n:
URL:https://ruangkelas.fkg.ugm.ac.id/events/acara-bimbingan-koas-drg-fajar-januar-sp-bm/
CATEGORIES:Ruang IUP
END:VEVENT
BEGIN:VEVENT
DTSTART;VALUE=DATE:20251229
DTEND;VALUE=DATE:20251230
DTSTAMP:20260421T134106
CREATED:20251209T055006Z
LAST-MODIFIED:20251222T083107Z
UID:40992-1766966400-1767052799@ruangkelas.fkg.ugm.ac.id
SUMMARY:Acara Fahmi
DESCRIPTION:DETAIL PEMINJAMAN RUANG \n\n\n\nNAMA KEGIATAN\n:Acara Fahmi\n\n\nRUANG\n:IUP lama\n\n\nTANGGAL\n:29 Desember 2025\n\n\nJAM KEGIATAN\n:Full day\n\n\nPENANGGUNG JAWAB DAN NO WATSAPP\n:Fahmi\n\n\nKETERANGAN\n:
URL:https://ruangkelas.fkg.ugm.ac.id/events/acara-fahmi/
CATEGORIES:Ruang IUP,Ruang Student Lounge/Kelas Internasional Atrium
END:VEVENT
BEGIN:VEVENT
DTSTART;TZID=Asia/Jakarta:20251229T080000
DTEND;TZID=Asia/Jakarta:20260102T160000
DTSTAMP:20260421T134106
CREATED:20251002T073035Z
LAST-MODIFIED:20251002T073035Z
UID:40392-1766995200-1767369600@ruangkelas.fkg.ugm.ac.id
SUMMARY:Kuliah S3
DESCRIPTION:– Nama Kegiatan : Kuliah S3\n– Ruang : Ruang 113 Lab. DLC Lantai 1\n– Tanggal : Senin-Jumat\, 6 Oktober 2025 – 2 Januari 2026\n– Jam Kegiatan : 08.00-16.00 WIB\n– Penanggung Jawab : Suci Agustina\n– No. Whatapps : 08175479617
URL:https://ruangkelas.fkg.ugm.ac.id/events/kuliah-s3-18/
CATEGORIES:DLC Lab Teaching Room LT 1
END:VEVENT
BEGIN:VEVENT
DTSTART;TZID=Asia/Jakarta:20251229T080000
DTEND;TZID=Asia/Jakarta:20260102T170000
DTSTAMP:20260421T134106
CREATED:20250811T233352Z
LAST-MODIFIED:20250811T233352Z
UID:39828-1766995200-1767373200@ruangkelas.fkg.ugm.ac.id
SUMMARY:Kuliah semester gasal 2025-2026 PSHG
DESCRIPTION:DETAIL PEMINJAMAN RUANG \n\n\n\nNAMA KEGIATAN\n:Kuliah semester gasal 2025-2026 PSHG\n\n\nRUANG\n:ABC DAN DEF\n\n\nTANGGAL\n:19 AGUSTUS 2025 – JANUARI 2026\n\n\nJAM KEGIATAN\n:07.00-16.00\n\n\nPENANGGUNG JAWAB DAN NO WATSAPP\n:\n\n\nKETERANGAN\n:Kuliah semester gasal 2025-2026 PSHG
URL:https://ruangkelas.fkg.ugm.ac.id/events/kuliah-semester-gasal-2025-2026-pshg-19/
CATEGORIES:DLC Ruang Kelas 1 Lt 2,DLC Ruang Kelas 2 Lt 2
END:VEVENT
BEGIN:VEVENT
DTSTART;TZID=Asia/Jakarta:20251230T080000
DTEND;TZID=Asia/Jakarta:20251230T170000
DTSTAMP:20260421T134106
CREATED:20251205T071646Z
LAST-MODIFIED:20251205T071646Z
UID:40971-1767081600-1767114000@ruangkelas.fkg.ugm.ac.id
SUMMARY:UJIA PERIO
DESCRIPTION:NAMA KEGIATAN\n:UJIAN PERIO\n\n\nRUANG\n:OSCE\n\n\nTANGGAL\n:30 DES 25\n\n\nJAM KEGIATAN\n:08.00 – 16.00\n\n\nPENANGGUNG JAWAB DAN NO WATSAPP\n:ANA\n\n\nKETERANGAN\n:
URL:https://ruangkelas.fkg.ugm.ac.id/events/ujia-perio/
CATEGORIES:DLC OSCE LT 6
END:VEVENT
BEGIN:VEVENT
DTSTART;TZID=Asia/Jakarta:20251230T100000
DTEND;TZID=Asia/Jakarta:20251230T130000
DTSTAMP:20260421T134106
CREATED:20251223T063232Z
LAST-MODIFIED:20251224T022355Z
UID:41051-1767088800-1767099600@ruangkelas.fkg.ugm.ac.id
SUMMARY:ujian pendadaran skripsi secara hybrid
DESCRIPTION:DETAIL PEMINJAMAN RUANG \n\n\n\nNAMA KEGIATAN\n: ujian pendadaran skripsi secara hybrid\n\n\nRUANG\n:IUP Baru\n\n\nTANGGAL\n:30 Desember 2025\n\n\nJAM KEGIATAN\n:10.00 – 13.00\n\n\nPENANGGUNG JAWAB DAN NO WATSAPP\n:Yasmin\n\n\nKETERANGAN\n:
URL:https://ruangkelas.fkg.ugm.ac.id/events/ujian-pendadaran-skripsi-secara-hybrid/
CATEGORIES:Ruang Student Lounge/Kelas Internasional Atrium
END:VEVENT
BEGIN:VEVENT
DTSTART;TZID=Asia/Jakarta:20251230T100000
DTEND;TZID=Asia/Jakarta:20251230T130000
DTSTAMP:20260421T134106
CREATED:20251223T063625Z
LAST-MODIFIED:20251223T063625Z
UID:41055-1767088800-1767099600@ruangkelas.fkg.ugm.ac.id
SUMMARY:ujian pendadaran skripsi secara hybrid
DESCRIPTION:DETAIL PEMINJAMAN RUANG \n\n\n\nNAMA KEGIATAN\n: ujian pendadaran skripsi secara hybrid\n\n\nRUANG\n:IUP baru\n\n\nTANGGAL\n:30 Desember 2025\n\n\nJAM KEGIATAN\n:10.00 – 13.30\n\n\nPENANGGUNG JAWAB DAN NO WATSAPP\n:Yasmin\n\n\nKETERANGAN\n:
URL:https://ruangkelas.fkg.ugm.ac.id/events/ujian-pendadaran-skripsi-secara-hybrid-2/
CATEGORIES:Ruang Student Lounge/Kelas Internasional Atrium
END:VEVENT
BEGIN:VEVENT
DTSTART;TZID=Asia/Jakarta:20251230T100000
DTEND;TZID=Asia/Jakarta:20251230T143000
DTSTAMP:20260421T134106
CREATED:20251223T023700Z
LAST-MODIFIED:20251223T023700Z
UID:41047-1767088800-1767105000@ruangkelas.fkg.ugm.ac.id
SUMMARY:rapat iDSDC
DESCRIPTION:DETAIL PEMINJAMAN RUANG \n\n\n\nNAMA KEGIATAN\n: rapat iDSDC\n\n\nRUANG\n:IUP lama\n\n\nTANGGAL\n:30 Desember 2025\n\n\nJAM KEGIATAN\n:10\,00 – 14.30\n\n\nPENANGGUNG JAWAB DAN NO WATSAPP\n:Bekti N\n\n\nKETERANGAN\n:
URL:https://ruangkelas.fkg.ugm.ac.id/events/rapat-idsdc-5/
CATEGORIES:Ruang IUP
END:VEVENT
BEGIN:VEVENT
DTSTART;TZID=Asia/Jakarta:20251231T080000
DTEND;TZID=Asia/Jakarta:20251231T170000
DTSTAMP:20260421T134106
CREATED:20251205T071836Z
LAST-MODIFIED:20251205T071836Z
UID:40975-1767168000-1767200400@ruangkelas.fkg.ugm.ac.id
SUMMARY:UJIAN KGA
DESCRIPTION:NAMA KEGIATAN\n:UJIAN KGA\n\n\nRUANG\n:OSCE\n\n\nTANGGAL\n:31 DES 25\n\n\nJAM KEGIATAN\n:08 – 16\n\n\nPENANGGUNG JAWAB DAN NO WATSAPP\n:SANTI\n\n\nKETERANGAN\n:
URL:https://ruangkelas.fkg.ugm.ac.id/events/ujian-kga/
CATEGORIES:DLC OSCE LT 6
END:VEVENT
BEGIN:VEVENT
DTSTART;TZID=Asia/Jakarta:20260102T080000
DTEND;TZID=Asia/Jakarta:20260102T170000
DTSTAMP:20260421T134106
CREATED:20251219T070013Z
LAST-MODIFIED:20251219T070013Z
UID:41037-1767340800-1767373200@ruangkelas.fkg.ugm.ac.id
SUMMARY:BORANG IPM
DESCRIPTION:NAMA KEGIATAN\n:BORANG IPM\n\n\nRUANG\n:MEETING ROOM\n\n\nTANGGAL\n:2 JANUARI 25\n\n\nJAM KEGIATAN\n:08.30 – 16.\n\n\nPENANGGUNG JAWAB DAN NO WATSAPP\n:ANITA\n\n\nKETERANGAN\n:
URL:https://ruangkelas.fkg.ugm.ac.id/events/borang-ipm/
CATEGORIES:Meeting Room
END:VEVENT
BEGIN:VEVENT
DTSTART;TZID=Asia/Jakarta:20260105T080000
DTEND;TZID=Asia/Jakarta:20260105T140000
DTSTAMP:20260421T134106
CREATED:20251205T071346Z
LAST-MODIFIED:20251205T071346Z
UID:40967-1767600000-1767621600@ruangkelas.fkg.ugm.ac.id
SUMMARY:UJIAN ORTO
DESCRIPTION:NAMA KEGIATAN\n:UJIAN ORTO\n\n\nRUANG\n:OSCE\n\n\nTANGGAL\n:5 JAN 2026\n\n\nJAM KEGIATAN\n:08.00- 13\,00\n\n\nPENANGGUNG JAWAB DAN NO WATSAPP\n:EVA\n\n\nKETERANGAN\n:
URL:https://ruangkelas.fkg.ugm.ac.id/events/ujian-orto-3/
CATEGORIES:DLC OSCE LT 6
END:VEVENT
BEGIN:VEVENT
DTSTART;TZID=Asia/Jakarta:20260105T130000
DTEND;TZID=Asia/Jakarta:20260105T150000
DTSTAMP:20260421T134106
CREATED:20260105T005634Z
LAST-MODIFIED:20260105T005634Z
UID:41109-1767618000-1767625200@ruangkelas.fkg.ugm.ac.id
SUMMARY:DIES
DESCRIPTION:NAMA KEGIATAN\n:DIES\n\n\nRUANG\n:MEETING ROOM\n\n\nTANGGAL\n:5 JAN 26\n\n\nJAM KEGIATAN\n:13 – 15\n\n\nPENANGGUNG JAWAB DAN NO WATSAPP\n:LASERI\n\n\nKETERANGAN\n:
URL:https://ruangkelas.fkg.ugm.ac.id/events/dies-5/
CATEGORIES:Meeting Room
END:VEVENT
BEGIN:VEVENT
DTSTART;VALUE=DATE:20260106
DTEND;VALUE=DATE:20260107
DTSTAMP:20260421T134106
CREATED:20260105T080208Z
LAST-MODIFIED:20260105T080208Z
UID:41112-1767657600-1767743999@ruangkelas.fkg.ugm.ac.id
SUMMARY:Rapat Berna
DESCRIPTION:DETAIL PEMINJAMAN RUANG \n\n\n\nNAMA KEGIATAN\n:Rapat Berna\n\n\nRUANG\n:IUP lama\n\n\nTANGGAL\n:6  Januari 2026\n\n\nJAM KEGIATAN\n:full day\n\n\nPENANGGUNG JAWAB DAN NO WATSAPP\n:Brena\n\n\nKETERANGAN\n:
URL:https://ruangkelas.fkg.ugm.ac.id/events/rapat-berna-3/
CATEGORIES:Ruang IUP
END:VEVENT
BEGIN:VEVENT
DTSTART;TZID=Asia/Jakarta:20260106T080000
DTEND;TZID=Asia/Jakarta:20260106T170000
DTSTAMP:20260421T134106
CREATED:20251209T065049Z
LAST-MODIFIED:20251209T065049Z
UID:40996-1767686400-1767718800@ruangkelas.fkg.ugm.ac.id
SUMMARY:UJIAN BM
DESCRIPTION:NAMA KEGIATAN\n:UJIAN BM\n\n\nRUANG\n:OSCE\n\n\nTANGGAL\n:6 JAN 26\n\n\nJAM KEGIATAN\n:08 – 16\n\n\nPENANGGUNG JAWAB DAN NO WATSAPP\n:PUJI\n\n\nKETERANGAN\n:
URL:https://ruangkelas.fkg.ugm.ac.id/events/ujian-bm-5/
CATEGORIES:DLC OSCE LT 6
END:VEVENT
BEGIN:VEVENT
DTSTART;TZID=Asia/Jakarta:20260106T090000
DTEND;TZID=Asia/Jakarta:20260106T130000
DTSTAMP:20260421T134106
CREATED:20251224T014935Z
LAST-MODIFIED:20251224T014935Z
UID:41067-1767690000-1767704400@ruangkelas.fkg.ugm.ac.id
SUMMARY:PKS UNP
DESCRIPTION:NAMA KEGIATAN\n:PKS UNP\n\n\nRUANG\n:MEETING ROOM\n\n\nTANGGAL\n:6 JAN 26\n\n\nJAM KEGIATAN\n:09 – 13\n\n\nPENANGGUNG JAWAB DAN NO WATSAPP\n:IDA\n\n\nKETERANGAN\n:
URL:https://ruangkelas.fkg.ugm.ac.id/events/pks-unp/
CATEGORIES:Meeting Room
END:VEVENT
BEGIN:VEVENT
DTSTART;TZID=Asia/Jakarta:20260106T130000
DTEND;TZID=Asia/Jakarta:20260106T150000
DTSTAMP:20260421T134106
CREATED:20260105T024920Z
LAST-MODIFIED:20260105T024920Z
UID:41113-1767704400-1767711600@ruangkelas.fkg.ugm.ac.id
SUMMARY:PENGARAHAN DOSEN TETAP
DESCRIPTION:NAMA KEGIATAN\n:PENGARAHAN DOSEN TETAP\n\n\nRUANG\n:MEETING ROOM\n\n\nTANGGAL\n:6 JAN 26\n\n\nJAM KEGIATAN\n:13 – 15\n\n\nPENANGGUNG JAWAB DAN NO WATSAPP\n:RINI\n\n\nKETERANGAN\n:
URL:https://ruangkelas.fkg.ugm.ac.id/events/pengarahan-dosen-tetap/
CATEGORIES:Meeting Room
END:VEVENT
BEGIN:VEVENT
DTSTART;VALUE=DATE:20260107
DTEND;VALUE=DATE:20260131
DTSTAMP:20260421T134106
CREATED:20251231T004741Z
LAST-MODIFIED:20251231T004741Z
UID:41073-1767744000-1769817599@ruangkelas.fkg.ugm.ac.id
SUMMARY:Bimbel UKMP2DG
DESCRIPTION:DETAIL PEMINJAMAN RUANG \n\n\n\nNAMA KEGIATAN\n:Bimbel UKMP2DG\n\n\nRUANG\n:IUP Baru\n\n\nTANGGAL\n:7 – 30 Januari 2025\n\n\nJAM KEGIATAN\n:full day\n\n\nPENANGGUNG JAWAB DAN NO WATSAPP\n:Dewi Harnum\n\n\nKETERANGAN\n:
URL:https://ruangkelas.fkg.ugm.ac.id/events/bimbel-ukmp2dg-104/
CATEGORIES:Ruang Student Lounge/Kelas Internasional Atrium
END:VEVENT
BEGIN:VEVENT
DTSTART;TZID=Asia/Jakarta:20260107T070000
DTEND;TZID=Asia/Jakarta:20260107T160000
DTSTAMP:20260421T134106
CREATED:20260102T064923Z
LAST-MODIFIED:20260102T064923Z
UID:41101-1767769200-1767801600@ruangkelas.fkg.ugm.ac.id
SUMMARY:Sertijab
DESCRIPTION:Nama Kegiatan : Sertijab \nNama Ruang : Auditorium margono \nHari\,Tanggal Kegiatan :Rabu\,7 Januari 2026 \nJam Kegiatan : 07.00-16.00 \nNama Penanggung Jawab \nNo Whatsapp :
URL:https://ruangkelas.fkg.ugm.ac.id/events/sertijab/
CATEGORIES:Margono Soeradji
END:VEVENT
BEGIN:VEVENT
DTSTART;TZID=Asia/Jakarta:20260107T080000
DTEND;TZID=Asia/Jakarta:20260107T170000
DTSTAMP:20260421T134106
CREATED:20260102T041140Z
LAST-MODIFIED:20260102T041140Z
UID:41086-1767772800-1767805200@ruangkelas.fkg.ugm.ac.id
SUMMARY:PROSTO
DESCRIPTION:NAMA KEGIATAN\n:PROSTO\n\n\nRUANG\n:OSCE\n\n\nTANGGAL\n:7 JAN 26\n\n\nJAM KEGIATAN\n:08 – 16\n\n\nPENANGGUNG JAWAB DAN NO WATSAPP\n:BETY\n\n\nKETERANGAN\n:
URL:https://ruangkelas.fkg.ugm.ac.id/events/prosto-8/
CATEGORIES:DLC OSCE LT 6
END:VEVENT
BEGIN:VEVENT
DTSTART;TZID=Asia/Jakarta:20260107T100000
DTEND;TZID=Asia/Jakarta:20260107T130000
DTSTAMP:20260421T134106
CREATED:20260105T085150Z
LAST-MODIFIED:20260105T085150Z
UID:41123-1767780000-1767790800@ruangkelas.fkg.ugm.ac.id
SUMMARY:PBG
DESCRIPTION:NAMA KEGIATAN\n:PBG\n\n\nRUANG\n:MEETING ROOM\n\n\nTANGGAL\n:7 JAN 26\n\n\nJAM KEGIATAN\n:10-13\n\n\nPENANGGUNG JAWAB DAN NO WATSAPP\n:K2A\n\n\nKETERANGAN\n:
URL:https://ruangkelas.fkg.ugm.ac.id/events/pbg/
CATEGORIES:Meeting Room
END:VEVENT
END:VCALENDAR