BEGIN:VCALENDAR
VERSION:2.0
PRODID:-//S I R K O - ECPv6.15.18//NONSGML v1.0//EN
CALSCALE:GREGORIAN
METHOD:PUBLISH
X-ORIGINAL-URL:https://ruangkelas.fkg.ugm.ac.id
X-WR-CALDESC:Events for S I R K O
REFRESH-INTERVAL;VALUE=DURATION:PT1H
X-Robots-Tag:noindex
X-PUBLISHED-TTL:PT1H
BEGIN:VTIMEZONE
TZID:Asia/Jakarta
BEGIN:STANDARD
TZOFFSETFROM:+0700
TZOFFSETTO:+0700
TZNAME:WIB
DTSTART:20240101T000000
END:STANDARD
END:VTIMEZONE
BEGIN:VEVENT
DTSTART;VALUE=DATE:20250922
DTEND;VALUE=DATE:20270101
DTSTAMP:20260425T093900
CREATED:20250910T070117Z
LAST-MODIFIED:20251119T234058Z
UID:40141-1758499200-1798761599@ruangkelas.fkg.ugm.ac.id
SUMMARY:ruang untuk departemen IKGM
DESCRIPTION:DETAIL PEMINJAMAN RUANG \n\n\n\nNAMA KEGIATAN\n:ruang untuk departemen IKGM\n\n\nRUANG\n:reading room\n\n\nTANGGAL\n:21 September 2025 sd desember 2026\n\n\nJAM KEGIATAN\n:full day\n\n\nPENANGGUNG JAWAB DAN NO WATSAPP\n:Kepala Kantor FKG UGM\n\n\nKETERANGAN\n:
URL:https://ruangkelas.fkg.ugm.ac.id/events/persiapan-renovasi-ruang-untuk-departemen-ikgm/
CATEGORIES:Reading Room
END:VEVENT
BEGIN:VEVENT
DTSTART;TZID=Asia/Jakarta:20260703T100000
DTEND;TZID=Asia/Jakarta:20260703T123000
DTSTAMP:20260425T093900
CREATED:20260204T012003Z
LAST-MODIFIED:20260204T012003Z
UID:41327-1783072800-1783081800@ruangkelas.fkg.ugm.ac.id
SUMMARY:Rapat drg. Suci
DESCRIPTION:DETAIL PEMINJAMAN RUANG \n\n\n\nNAMA KEGIATAN\n:Rapat drg. Suci\n\n\nRUANG\n:IUP lama\n\n\nTANGGAL\n:3 Juli 2026\n\n\nJAM KEGIATAN\n:10.00-12.30\n\n\nPENANGGUNG JAWAB DAN NO WATSAPP\n:drg. Suci\n\n\nKETERANGAN\n:
URL:https://ruangkelas.fkg.ugm.ac.id/events/rapat-drg-suci-18/
CATEGORIES:Ruang IUP
END:VEVENT
BEGIN:VEVENT
DTSTART;TZID=Asia/Jakarta:20260710T100000
DTEND;TZID=Asia/Jakarta:20260710T123000
DTSTAMP:20260425T093900
CREATED:20260204T012135Z
LAST-MODIFIED:20260204T012135Z
UID:41329-1783677600-1783686600@ruangkelas.fkg.ugm.ac.id
SUMMARY:Rapat drg Suci
DESCRIPTION:DETAIL PEMINJAMAN RUANG \n\n\n\nNAMA KEGIATAN\n:Rapar drg Suci\n\n\nRUANG\n:IUP lama\n\n\nTANGGAL\n:10 Juli 2026\n\n\nJAM KEGIATAN\n:10.00-12.30\n\n\nPENANGGUNG JAWAB DAN NO WATSAPP\n:drg Suci\n\n\nKETERANGAN\n:
URL:https://ruangkelas.fkg.ugm.ac.id/events/rapat-drg-suci-19/
CATEGORIES:Ruang IUP
END:VEVENT
BEGIN:VEVENT
DTSTART;TZID=Asia/Jakarta:20260714T080000
DTEND;TZID=Asia/Jakarta:20260714T170000
DTSTAMP:20260425T093900
CREATED:20260225T070800Z
LAST-MODIFIED:20260225T070800Z
UID:41680-1784016000-1784048400@ruangkelas.fkg.ugm.ac.id
SUMMARY:KOMPRE
DESCRIPTION:NAMA KEGIATAN\n:KOMPRE\n\n\nRUANG\n:OSCE\n\n\nTANGGAL\n:14 JULI 26\n\n\nJAM KEGIATAN\n:08 – 16\n\n\nPENANGGUNG JAWAB DAN NO WATSAPP\n:VOMA\n\n\nKETERANGAN\n:
URL:https://ruangkelas.fkg.ugm.ac.id/events/kompre-21/
CATEGORIES:DLC OSCE LT 6
END:VEVENT
BEGIN:VEVENT
DTSTART;TZID=Asia/Jakarta:20260717T100000
DTEND;TZID=Asia/Jakarta:20260717T123000
DTSTAMP:20260425T093900
CREATED:20260204T081102Z
LAST-MODIFIED:20260204T081102Z
UID:41343-1784282400-1784291400@ruangkelas.fkg.ugm.ac.id
SUMMARY:Rapat drg. Suci
DESCRIPTION:DETAIL PEMINJAMAN RUANG \n\n\n\nNAMA KEGIATAN\n:Rapat drg Suci\n\n\nRUANG\n:IUP lama\n\n\nTANGGAL\n:17 Juli 2026\n\n\nJAM KEGIATAN\n:10.00-12.30\n\n\nPENANGGUNG JAWAB DAN NO WATSAPP\n:drg Suci\n\n\nKETERANGAN\n:
URL:https://ruangkelas.fkg.ugm.ac.id/events/rapat-drg-suci-20/
CATEGORIES:Ruang IUP
END:VEVENT
BEGIN:VEVENT
DTSTART;TZID=Asia/Jakarta:20260722T080000
DTEND;TZID=Asia/Jakarta:20260722T170000
DTSTAMP:20260425T093900
CREATED:20260225T071025Z
LAST-MODIFIED:20260225T071025Z
UID:41684-1784707200-1784739600@ruangkelas.fkg.ugm.ac.id
SUMMARY:TO OSCE
DESCRIPTION:NAMA KEGIATAN\n:TO OSCE\n\n\nRUANG\n:OSCE\n\n\nTANGGAL\n:22 JULI 26\n\n\nJAM KEGIATAN\n:08 – 16\n\n\nPENANGGUNG JAWAB DAN NO WATSAPP\n:VN\n\n\nKETERANGAN\n:
URL:https://ruangkelas.fkg.ugm.ac.id/events/to-osce-10/
CATEGORIES:DLC OSCE LT 6
END:VEVENT
BEGIN:VEVENT
DTSTART;TZID=Asia/Jakarta:20260723T080000
DTEND;TZID=Asia/Jakarta:20260723T170000
DTSTAMP:20260425T093900
CREATED:20260225T070911Z
LAST-MODIFIED:20260225T070911Z
UID:41682-1784793600-1784826000@ruangkelas.fkg.ugm.ac.id
SUMMARY:TO OSCE
DESCRIPTION:NAMA KEGIATAN\n:TO OSCE\n\n\nRUANG\n:OSCE\n\n\nTANGGAL\n:23 JULI 26\n\n\nJAM KEGIATAN\n:08 – 16\n\n\nPENANGGUNG JAWAB DAN NO WATSAPP\n:VN\n\n\nKETERANGAN\n:
URL:https://ruangkelas.fkg.ugm.ac.id/events/to-osce-9/
CATEGORIES:DLC OSCE LT 6
END:VEVENT
BEGIN:VEVENT
DTSTART;TZID=Asia/Jakarta:20260724T080000
DTEND;TZID=Asia/Jakarta:20260724T170000
DTSTAMP:20260425T093900
CREATED:20260413T015511Z
LAST-MODIFIED:20260413T015511Z
UID:41972-1784880000-1784912400@ruangkelas.fkg.ugm.ac.id
SUMMARY:UKOM ORTO
DESCRIPTION:NAMA KEGIATAN\n:UKOM ORTO\n\n\nRUANG\n:OSCE\n\n\nTANGGAL\n:24 JULI 2026\n\n\nJAM KEGIATAN\n:7.30 – 16.00\n\n\nPENANGGUNG JAWAB DAN NO WATSAPP\n:EVA\n\n\nKETERANGAN\n:
URL:https://ruangkelas.fkg.ugm.ac.id/events/ukom-orto/
CATEGORIES:DLC OSCE LT 6
END:VEVENT
BEGIN:VEVENT
DTSTART;TZID=Asia/Jakarta:20260724T100000
DTEND;TZID=Asia/Jakarta:20260724T123000
DTSTAMP:20260425T093900
CREATED:20260204T081233Z
LAST-MODIFIED:20260204T081233Z
UID:41345-1784887200-1784896200@ruangkelas.fkg.ugm.ac.id
SUMMARY:Rapat drg Suci
DESCRIPTION:DETAIL PEMINJAMAN RUANG \n\n\n\nNAMA KEGIATAN\n:Rapat drg Suci\n\n\nRUANG\n:IUP lama\n\n\nTANGGAL\n:24 Juli 2026\n\n\nJAM KEGIATAN\n:10.00-12.30\n\n\nPENANGGUNG JAWAB DAN NO WATSAPP\n:drg Suci\n\n\nKETERANGAN\n:
URL:https://ruangkelas.fkg.ugm.ac.id/events/rapat-drg-suci-21/
CATEGORIES:Ruang IUP
END:VEVENT
BEGIN:VEVENT
DTSTART;TZID=Asia/Jakarta:20260725T080000
DTEND;TZID=Asia/Jakarta:20260725T170000
DTSTAMP:20260425T093900
CREATED:20260413T015608Z
LAST-MODIFIED:20260413T015608Z
UID:41974-1784966400-1784998800@ruangkelas.fkg.ugm.ac.id
SUMMARY:UKOM ORTO
DESCRIPTION:NAMA KEGIATAN\n:UKOM ORTO\n\n\nRUANG\n:OSCE\n\n\nTANGGAL\n:25 JULI 26\n\n\nJAM KEGIATAN\n:08 – 16\n\n\nPENANGGUNG JAWAB DAN NO WATSAPP\n:EVA\n\n\nKETERANGAN\n:
URL:https://ruangkelas.fkg.ugm.ac.id/events/ukom-orto-2/
CATEGORIES:DLC OSCE LT 6
END:VEVENT
BEGIN:VEVENT
DTSTART;TZID=Asia/Jakarta:20260731T100000
DTEND;TZID=Asia/Jakarta:20260731T123000
DTSTAMP:20260425T093900
CREATED:20260204T081427Z
LAST-MODIFIED:20260204T081427Z
UID:41347-1785492000-1785501000@ruangkelas.fkg.ugm.ac.id
SUMMARY:Rapat drg Suci
DESCRIPTION:DETAIL PEMINJAMAN RUANG \n\n\n\nNAMA KEGIATAN\n:Rapat drg. Suci\n\n\nRUANG\n:IUP lama\n\n\nTANGGAL\n:31 Juli 2026\n\n\nJAM KEGIATAN\n:10.00 – 12.30\n\n\nPENANGGUNG JAWAB DAN NO WATSAPP\n:drg Suci\n\n\nKETERANGAN\n:
URL:https://ruangkelas.fkg.ugm.ac.id/events/rapat-drg-suci-22/
CATEGORIES:Ruang IUP
END:VEVENT
END:VCALENDAR