BEGIN:VCALENDAR
VERSION:2.0
PRODID:-//S I R K O - ECPv6.15.18//NONSGML v1.0//EN
CALSCALE:GREGORIAN
METHOD:PUBLISH
X-ORIGINAL-URL:https://ruangkelas.fkg.ugm.ac.id
X-WR-CALDESC:Events for S I R K O
REFRESH-INTERVAL;VALUE=DURATION:PT1H
X-Robots-Tag:noindex
X-PUBLISHED-TTL:PT1H
BEGIN:VTIMEZONE
TZID:Asia/Jakarta
BEGIN:STANDARD
TZOFFSETFROM:+0700
TZOFFSETTO:+0700
TZNAME:WIB
DTSTART:20240101T000000
END:STANDARD
END:VTIMEZONE
BEGIN:VEVENT
DTSTART;VALUE=DATE:20250922
DTEND;VALUE=DATE:20270101
DTSTAMP:20260425T093900
CREATED:20250910T070117Z
LAST-MODIFIED:20251119T234058Z
UID:40141-1758499200-1798761599@ruangkelas.fkg.ugm.ac.id
SUMMARY:ruang untuk departemen IKGM
DESCRIPTION:DETAIL PEMINJAMAN RUANG \n\n\n\nNAMA KEGIATAN\n:ruang untuk departemen IKGM\n\n\nRUANG\n:reading room\n\n\nTANGGAL\n:21 September 2025 sd desember 2026\n\n\nJAM KEGIATAN\n:full day\n\n\nPENANGGUNG JAWAB DAN NO WATSAPP\n:Kepala Kantor FKG UGM\n\n\nKETERANGAN\n:
URL:https://ruangkelas.fkg.ugm.ac.id/events/persiapan-renovasi-ruang-untuk-departemen-ikgm/
CATEGORIES:Reading Room
END:VEVENT
BEGIN:VEVENT
DTSTART;TZID=Asia/Jakarta:20260902T080000
DTEND;TZID=Asia/Jakarta:20260902T130000
DTSTAMP:20260425T093900
CREATED:20260410T091335Z
LAST-MODIFIED:20260410T091335Z
UID:41965-1788336000-1788354000@ruangkelas.fkg.ugm.ac.id
SUMMARY:Kunjungan SMA
DESCRIPTION:Nama Kegiatan : kunjungan SMA \nNama Ruang : Auditorium margono \nHari\,Tanggal Kegiatan : Rabu 2 September 26 \nJam Kegiatan : 08.00-13.00 \nNama Penanggung Jawab : \nNo Whatsapp :
URL:https://ruangkelas.fkg.ugm.ac.id/events/kunjungan-sma-37/
CATEGORIES:Margono Soeradji
END:VEVENT
BEGIN:VEVENT
DTSTART;TZID=Asia/Jakarta:20260909T080000
DTEND;TZID=Asia/Jakarta:20260909T130000
DTSTAMP:20260425T093900
CREATED:20260410T091531Z
LAST-MODIFIED:20260410T091531Z
UID:41967-1788940800-1788958800@ruangkelas.fkg.ugm.ac.id
SUMMARY:Kunjungan SMA
DESCRIPTION:Nama Kegiatan : kunjungan SMA \nNama Ruang : Auditorium margono \nHari\,Tanggal Kegiatan : Rabu\,9 September 26 \nJam Kegiatan : 08.00-13.00 \nNama Penanggung Jawab : \nNo Whatsapp :
URL:https://ruangkelas.fkg.ugm.ac.id/events/kunjungan-sma-38/
CATEGORIES:Margono Soeradji
END:VEVENT
END:VCALENDAR