BEGIN:VCALENDAR
VERSION:2.0
PRODID:-//S I R K O - ECPv6.15.18//NONSGML v1.0//EN
CALSCALE:GREGORIAN
METHOD:PUBLISH
X-WR-CALNAME:S I R K O
X-ORIGINAL-URL:https://ruangkelas.fkg.ugm.ac.id
X-WR-CALDESC:Events for S I R K O
REFRESH-INTERVAL;VALUE=DURATION:PT1H
X-Robots-Tag:noindex
X-PUBLISHED-TTL:PT1H
BEGIN:VTIMEZONE
TZID:Asia/Jakarta
BEGIN:STANDARD
TZOFFSETFROM:+0700
TZOFFSETTO:+0700
TZNAME:WIB
DTSTART:20240101T000000
END:STANDARD
END:VTIMEZONE
BEGIN:VEVENT
DTSTART;VALUE=DATE:20250922
DTEND;VALUE=DATE:20270101
DTSTAMP:20260426T034538
CREATED:20250910T070117Z
LAST-MODIFIED:20251119T234058Z
UID:40141-1758499200-1798761599@ruangkelas.fkg.ugm.ac.id
SUMMARY:ruang untuk departemen IKGM
DESCRIPTION:DETAIL PEMINJAMAN RUANG \n\n\n\nNAMA KEGIATAN\n:ruang untuk departemen IKGM\n\n\nRUANG\n:reading room\n\n\nTANGGAL\n:21 September 2025 sd desember 2026\n\n\nJAM KEGIATAN\n:full day\n\n\nPENANGGUNG JAWAB DAN NO WATSAPP\n:Kepala Kantor FKG UGM\n\n\nKETERANGAN\n:
URL:https://ruangkelas.fkg.ugm.ac.id/events/persiapan-renovasi-ruang-untuk-departemen-ikgm/
CATEGORIES:Reading Room
END:VEVENT
BEGIN:VEVENT
DTSTART;VALUE=DATE:20260209
DTEND;VALUE=DATE:20260701
DTSTAMP:20260426T034538
CREATED:20260121T030959Z
LAST-MODIFIED:20260121T031433Z
UID:41214-1770595200-1782863999@ruangkelas.fkg.ugm.ac.id
SUMMARY:Kuliah IUP semester Genap TA 2025/2026
DESCRIPTION:DETAIL PEMINJAMAN RUANG \n\n\n\nNAMA KEGIATAN\n:Kuliah IUP semester Genap TA 2025/2026\n\n\nRUANG\n:IUP Baru FKG UGM\n\n\nTANGGAL\n:9 Februari 2026 – 30 Juni 2026\n\n\nJAM KEGIATAN\n:full day\n\n\nPENANGGUNG JAWAB DAN NO WATSAPP\n:Prodi S1 KG FKG UGM\n\n\nKETERANGAN\n:
URL:https://ruangkelas.fkg.ugm.ac.id/events/kuliah-iup-semester-genap-ta-2025-2026/
CATEGORIES:Ruang Student Lounge/Kelas Internasional Atrium
END:VEVENT
BEGIN:VEVENT
DTSTART;TZID=Asia/Jakarta:20260401T080000
DTEND;TZID=Asia/Jakarta:20260427T160000
DTSTAMP:20260426T034538
CREATED:20260330T054239Z
LAST-MODIFIED:20260330T055437Z
UID:41829-1775030400-1777305600@ruangkelas.fkg.ugm.ac.id
SUMMARY:kul topik 2
DESCRIPTION:  \n\n\n\nNAMA KEGIATAN\n:kul topik 2\n\n\nRUANG\n: J\n\n\nTANGGAL\n:01 April s/d 27 April 2026\n\n\nJAM KEGIATAN\n:08.00 s/d 16.00\n\n\nPENANGGUNG JAWAB DAN NO WATSAPP\n:Dr.Yulita Hendrartini\n\n\nKETERANGAN\n:
URL:https://ruangkelas.fkg.ugm.ac.id/events/kul-topik-3-2/
CATEGORIES:Ruang I (160)
END:VEVENT
BEGIN:VEVENT
DTSTART;TZID=Asia/Jakarta:20260427T080000
DTEND;TZID=Asia/Jakarta:20260427T100000
DTSTAMP:20260426T034538
CREATED:20260408T071640Z
LAST-MODIFIED:20260423T020320Z
UID:41937-1777276800-1777284000@ruangkelas.fkg.ugm.ac.id
SUMMARY:pertemuan dengan mahasiswa drg. Robert Sembiring
DESCRIPTION:NAMA KEGIATAN\n:pertemuan dengan mahasiswa drg. Robert Sembiring\n\n\nRUANG\n:MR\n\n\nTANGGAL\n:27 APR 26\n\n\nJAM KEGIATAN\n:08-10\n\n\nPENANGGUNG JAWAB DAN NO WATSAPP\n:DF\n\n\nKETERANGAN\n:
URL:https://ruangkelas.fkg.ugm.ac.id/events/pertemuan-dengan-mahasiswa-drg-robert-sembiring/
CATEGORIES:Meeting Room
END:VEVENT
BEGIN:VEVENT
DTSTART;TZID=Asia/Jakarta:20260427T090000
DTEND;TZID=Asia/Jakarta:20260427T123000
DTSTAMP:20260426T034538
CREATED:20260209T063244Z
LAST-MODIFIED:20260209T063244Z
UID:41452-1777280400-1777293000@ruangkelas.fkg.ugm.ac.id
SUMMARY:Kuliah Radiologi
DESCRIPTION:DETAIL PEMINJAMAN RUANG \n\n\n\nNAMA KEGIATAN\n:Kuliah Radiologi\n\n\nRUANG\n:IUP lama\n\n\nTANGGAL\n:27 April 2026\n\n\nJAM KEGIATAN\n:09.00-12.30\n\n\nPENANGGUNG JAWAB DAN NO WATSAPP\n:Margana\n\n\nKETERANGAN\n:
URL:https://ruangkelas.fkg.ugm.ac.id/events/kuliah-radiologi-36/
CATEGORIES:Ruang IUP
END:VEVENT
BEGIN:VEVENT
DTSTART;TZID=Asia/Jakarta:20260427T090000
DTEND;TZID=Asia/Jakarta:20260427T130000
DTSTAMP:20260426T034538
CREATED:20260219T024024Z
LAST-MODIFIED:20260219T024024Z
UID:41622-1777280400-1777294800@ruangkelas.fkg.ugm.ac.id
SUMMARY:Ujian topik
DESCRIPTION:Nama Kegiatan : ujian topik \nNama Ruang : Auditorium margono \nHari\,Tanggal Kegiatan : Senin\, 27 Apri 26 \nJam Kegiatan : 09.00-13.00 \nNama Penanggung Jawab : \nNo Whatsapp :
URL:https://ruangkelas.fkg.ugm.ac.id/events/ujian-topik-74/
CATEGORIES:Margono Soeradji
END:VEVENT
BEGIN:VEVENT
DTSTART;TZID=Asia/Jakarta:20260427T100000
DTEND;TZID=Asia/Jakarta:20260427T130000
DTSTAMP:20260426T034538
CREATED:20260415T063704Z
LAST-MODIFIED:20260415T063704Z
UID:41989-1777284000-1777294800@ruangkelas.fkg.ugm.ac.id
SUMMARY:PLENO SENAT
DESCRIPTION:NAMA KEGIATAN\n:PLENO SENAT\n\n\nRUANG\n:MR\n\n\nTANGGAL\n:27 APR 26\n\n\nJAM KEGIATAN\n:10 – 13\n\n\nPENANGGUNG JAWAB DAN NO WATSAPP\n:RINI P\n\n\nKETERANGAN\n:
URL:https://ruangkelas.fkg.ugm.ac.id/events/pleno-senat-9/
CATEGORIES:Meeting Room
END:VEVENT
BEGIN:VEVENT
DTSTART;TZID=Asia/Jakarta:20260428T080000
DTEND;TZID=Asia/Jakarta:20260428T160000
DTSTAMP:20260426T034538
CREATED:20260327T034238Z
LAST-MODIFIED:20260327T034238Z
UID:41801-1777363200-1777392000@ruangkelas.fkg.ugm.ac.id
SUMMARY:Bimbel
DESCRIPTION:Nama Kegiatan : Bimbel \nNama Ruang : Auditorium margono \nHari\,Tanggal Kegiatan : Selasa\, 28 April 26 \nJam Kegiatan : 08.00-16.00 \nNama Penanggung Jawab : \nNo Whatsapp :
URL:https://ruangkelas.fkg.ugm.ac.id/events/bimbel-17/
CATEGORIES:Margono Soeradji
END:VEVENT
BEGIN:VEVENT
DTSTART;TZID=Asia/Jakarta:20260428T090000
DTEND;TZID=Asia/Jakarta:20260428T123000
DTSTAMP:20260426T034538
CREATED:20260209T063400Z
LAST-MODIFIED:20260209T063400Z
UID:41455-1777366800-1777379400@ruangkelas.fkg.ugm.ac.id
SUMMARY:Kuliah Radiologi
DESCRIPTION:DETAIL PEMINJAMAN RUANG \n\n\n\nNAMA KEGIATAN\n:Kuliah Radiologi\n\n\nRUANG\n:IUP lama\n\n\nTANGGAL\n:28 April 2026\n\n\nJAM KEGIATAN\n:09.00-12.30\n\n\nPENANGGUNG JAWAB DAN NO WATSAPP\n:Margana\n\n\nKETERANGAN\n:
URL:https://ruangkelas.fkg.ugm.ac.id/events/kuliah-radiologi-37/
CATEGORIES:Ruang IUP
END:VEVENT
BEGIN:VEVENT
DTSTART;TZID=Asia/Jakarta:20260428T100000
DTEND;TZID=Asia/Jakarta:20260428T120000
DTSTAMP:20260426T034538
CREATED:20260421T015142Z
LAST-MODIFIED:20260421T015142Z
UID:42022-1777370400-1777377600@ruangkelas.fkg.ugm.ac.id
SUMMARY:KJ DOSEN
DESCRIPTION:NAMA KEGIATAN\n:KJ DOSEN\n\n\nRUANG\n:MR\n\n\nTANGGAL\n:28 APR 26\n\n\nJAM KEGIATAN\n:10 -12\n\n\nPENANGGUNG JAWAB DAN NO WATSAPP\n:RINI\n\n\nKETERANGAN\n:
URL:https://ruangkelas.fkg.ugm.ac.id/events/kj-dosen-4/
CATEGORIES:Meeting Room
END:VEVENT
BEGIN:VEVENT
DTSTART;TZID=Asia/Jakarta:20260428T130000
DTEND;TZID=Asia/Jakarta:20260428T150000
DTSTAMP:20260426T034538
CREATED:20260421T021004Z
LAST-MODIFIED:20260421T021004Z
UID:42024-1777381200-1777388400@ruangkelas.fkg.ugm.ac.id
SUMMARY:kepegawaian
DESCRIPTION:NAMA KEGIATAN\n:kepegawaian\n\n\nRUANG\n:mr\n\n\nTANGGAL\n:28 apr 26\n\n\nJAM KEGIATAN\n:13 – 15\n\n\nPENANGGUNG JAWAB DAN NO WATSAPP\n:fidya\n\n\nKETERANGAN\n:
URL:https://ruangkelas.fkg.ugm.ac.id/events/kepegawaian-4/
CATEGORIES:Meeting Room
END:VEVENT
BEGIN:VEVENT
DTSTART;TZID=Asia/Jakarta:20260429T080000
DTEND;TZID=Asia/Jakarta:20260429T120000
DTSTAMP:20260426T034538
CREATED:20260420T070941Z
LAST-MODIFIED:20260420T070941Z
UID:42014-1777449600-1777464000@ruangkelas.fkg.ugm.ac.id
SUMMARY:UJIAN S3
DESCRIPTION:NAMA KEGIATAN\n:UJIAN S3\n\n\nRUANG\n:MR\n\n\nTANGGAL\n:29 APR 26\n\n\nJAM KEGIATAN\n:08 – 12\n\n\nPENANGGUNG JAWAB DAN NO WATSAPP\n:SUCI\n\n\nKETERANGAN\n:
URL:https://ruangkelas.fkg.ugm.ac.id/events/ujian-s3-11/
CATEGORIES:Meeting Room
END:VEVENT
BEGIN:VEVENT
DTSTART;TZID=Asia/Jakarta:20260429T080000
DTEND;TZID=Asia/Jakarta:20260429T160000
DTSTAMP:20260426T034538
CREATED:20260327T034444Z
LAST-MODIFIED:20260327T034444Z
UID:41803-1777449600-1777478400@ruangkelas.fkg.ugm.ac.id
SUMMARY:Bimbel
DESCRIPTION:Nama Kegiatan : bimbel \nNama Ruang : Auditorium margono \nHari\,Tanggal Kegiatan :Rabu\, 29 April 26 \nJam Kegiatan : 08.00-16.00 \nNama Penanggung Jawab : \nNo Whatsapp :
URL:https://ruangkelas.fkg.ugm.ac.id/events/bimbel-18/
CATEGORIES:Margono Soeradji
END:VEVENT
BEGIN:VEVENT
DTSTART;TZID=Asia/Jakarta:20260429T090000
DTEND;TZID=Asia/Jakarta:20260429T120000
DTSTAMP:20260426T034538
CREATED:20260401T073724Z
LAST-MODIFIED:20260401T073724Z
UID:41877-1777453200-1777464000@ruangkelas.fkg.ugm.ac.id
SUMMARY:Diskusi drg Ninung
DESCRIPTION:DETAIL PEMINJAMAN RUANG \n\n\n\nNAMA KEGIATAN\n:diskusi drg Ninung\n\n\nRUANG\n:IUP lama\n\n\nTANGGAL\n:29 April 2026\n\n\nJAM KEGIATAN\n:09.00-12.00\n\n\nPENANGGUNG JAWAB DAN NO WATSAPP\n:drg Ninung\n\n\nKETERANGAN\n:
URL:https://ruangkelas.fkg.ugm.ac.id/events/diskusi-drg-ninung-3/
CATEGORIES:Ruang IUP
END:VEVENT
BEGIN:VEVENT
DTSTART;TZID=Asia/Jakarta:20260430T080000
DTEND;TZID=Asia/Jakarta:20260430T160000
DTSTAMP:20260426T034538
CREATED:20260327T034731Z
LAST-MODIFIED:20260327T034731Z
UID:41805-1777536000-1777564800@ruangkelas.fkg.ugm.ac.id
SUMMARY:Bimbel
DESCRIPTION:Nama Kegiatan : Bimbel \nNama Ruang : Auditorium margono \nHari\,Tanggal Kegiatan : kamis \,30 April 26 \nJam Kegiatan : 08.00-16.00 \nNama Penanggung Jawab : \nNo Whatsapp
URL:https://ruangkelas.fkg.ugm.ac.id/events/bimbel-19/
CATEGORIES:Margono Soeradji
END:VEVENT
BEGIN:VEVENT
DTSTART;TZID=Asia/Jakarta:20260430T080000
DTEND;TZID=Asia/Jakarta:20260430T170000
DTSTAMP:20260426T034538
CREATED:20260420T030903Z
LAST-MODIFIED:20260420T030903Z
UID:42011-1777536000-1777568400@ruangkelas.fkg.ugm.ac.id
SUMMARY:KONSERVASI
DESCRIPTION:NAMA KEGIATAN\n:KONSERVASI\n\n\nRUANG\n:OSCE\n\n\nTANGGAL\n:30 APR 26\n\n\nJAM KEGIATAN\n:08 – 16\n\n\nPENANGGUNG JAWAB DAN NO WATSAPP\n:HENY T\n\n\nKETERANGAN\n:
URL:https://ruangkelas.fkg.ugm.ac.id/events/konservasi-9/
CATEGORIES:DLC OSCE LT 6
END:VEVENT
BEGIN:VEVENT
DTSTART;TZID=Asia/Jakarta:20260430T090000
DTEND;TZID=Asia/Jakarta:20260430T123000
DTSTAMP:20260426T034538
CREATED:20260209T063540Z
LAST-MODIFIED:20260209T063540Z
UID:41457-1777539600-1777552200@ruangkelas.fkg.ugm.ac.id
SUMMARY:Kuliah Radiologi
DESCRIPTION:DETAIL PEMINJAMAN RUANG \n\n\n\nNAMA KEGIATAN\n:Kuliah Radiologi\n\n\nRUANG\n:IUP lama\n\n\nTANGGAL\n:30 April 2026\n\n\nJAM KEGIATAN\n:09.00-12.30\n\n\nPENANGGUNG JAWAB DAN NO WATSAPP\n:Margana\n\n\nKETERANGAN\n:
URL:https://ruangkelas.fkg.ugm.ac.id/events/kuliah-radiologi-38/
CATEGORIES:Ruang IUP
END:VEVENT
END:VCALENDAR